BEGIN:VCALENDAR
VERSION:2.0
PRODID:-//iAnatropi.gr - ECPv6.15.20//NONSGML v1.0//EN
CALSCALE:GREGORIAN
METHOD:PUBLISH
X-WR-CALNAME:iAnatropi.gr
X-ORIGINAL-URL:https://ianatropi.gr
X-WR-CALDESC:Events for iAnatropi.gr
REFRESH-INTERVAL;VALUE=DURATION:PT1H
X-Robots-Tag:noindex
X-PUBLISHED-TTL:PT1H
BEGIN:VTIMEZONE
TZID:Europe/Helsinki
BEGIN:DAYLIGHT
TZOFFSETFROM:+0200
TZOFFSETTO:+0300
TZNAME:EEST
DTSTART:20240331T010000
END:DAYLIGHT
BEGIN:STANDARD
TZOFFSETFROM:+0300
TZOFFSETTO:+0200
TZNAME:EET
DTSTART:20241027T010000
END:STANDARD
BEGIN:DAYLIGHT
TZOFFSETFROM:+0200
TZOFFSETTO:+0300
TZNAME:EEST
DTSTART:20250330T010000
END:DAYLIGHT
BEGIN:STANDARD
TZOFFSETFROM:+0300
TZOFFSETTO:+0200
TZNAME:EET
DTSTART:20251026T010000
END:STANDARD
BEGIN:DAYLIGHT
TZOFFSETFROM:+0200
TZOFFSETTO:+0300
TZNAME:EEST
DTSTART:20260329T010000
END:DAYLIGHT
BEGIN:STANDARD
TZOFFSETFROM:+0300
TZOFFSETTO:+0200
TZNAME:EET
DTSTART:20261025T010000
END:STANDARD
END:VTIMEZONE
BEGIN:VEVENT
DTSTART;TZID=Europe/Helsinki:20251209T100000
DTEND;TZID=Europe/Helsinki:20251209T120000
DTSTAMP:20260420T012209
CREATED:20251122T152203Z
LAST-MODIFIED:20251123T103454Z
UID:41045-1765274400-1765281600@ianatropi.gr
SUMMARY:Η καρδιά του θεάτρου χτυπάει στην Κυψέλη: Θεατρική ομάδα 65+
DESCRIPTION:Είναι η λεγόμενη «τρίτη ηλικία» παροπλισμένη; Απαντάμε δυναμικά πως όχι και συναντιόμαστε για να αναπτύξουμε τα ταλέντα μας\, να επικοινωνήσουμε\, να μοιραστούμε ιστορίες και να ακονίσουμε τις δεξιότητές μας. Και\, φυσικά\, να παίξουμε στη σκηνή! \nΚάθε Τρίτη από από 4 Νοεμβρίου έως τέλος Ιουνίου 2026| | 10:00 – 12:00 \nΑιτήσεις συμμετοχής εδώ \nΠροπώληση εισιτηρίων εδώ
URL:https://ianatropi.gr/event/i-kardia-toy-theatroy-chtypaei-stin-kypseli-theatriki-omada-65-3/
LOCATION:Δημοτική Αγορά Κυψέλης
CATEGORIES:ΚΕΝΤΡΙΚΟΣ ΤΟΜΕΑΣ
ATTACH;FMTTYPE=image/png:https://ianatropi.gr/wp-content/uploads/2025/11/Untitled-design-5-5.png
END:VEVENT
END:VCALENDAR