BEGIN:VCALENDAR
VERSION:2.0
PRODID:-//iAnatropi.gr - ECPv6.15.20//NONSGML v1.0//EN
CALSCALE:GREGORIAN
METHOD:PUBLISH
X-ORIGINAL-URL:https://ianatropi.gr
X-WR-CALDESC:Events for iAnatropi.gr
REFRESH-INTERVAL;VALUE=DURATION:PT1H
X-Robots-Tag:noindex
X-PUBLISHED-TTL:PT1H
BEGIN:VTIMEZONE
TZID:Europe/Helsinki
BEGIN:DAYLIGHT
TZOFFSETFROM:+0200
TZOFFSETTO:+0300
TZNAME:EEST
DTSTART:20240331T010000
END:DAYLIGHT
BEGIN:STANDARD
TZOFFSETFROM:+0300
TZOFFSETTO:+0200
TZNAME:EET
DTSTART:20241027T010000
END:STANDARD
BEGIN:DAYLIGHT
TZOFFSETFROM:+0200
TZOFFSETTO:+0300
TZNAME:EEST
DTSTART:20250330T010000
END:DAYLIGHT
BEGIN:STANDARD
TZOFFSETFROM:+0300
TZOFFSETTO:+0200
TZNAME:EET
DTSTART:20251026T010000
END:STANDARD
BEGIN:DAYLIGHT
TZOFFSETFROM:+0200
TZOFFSETTO:+0300
TZNAME:EEST
DTSTART:20260329T010000
END:DAYLIGHT
BEGIN:STANDARD
TZOFFSETFROM:+0300
TZOFFSETTO:+0200
TZNAME:EET
DTSTART:20261025T010000
END:STANDARD
END:VTIMEZONE
BEGIN:VEVENT
DTSTART;TZID=Europe/Helsinki:20251130T193000
DTEND;TZID=Europe/Helsinki:20251208T210000
DTSTAMP:20260420T072905
CREATED:20251122T145754Z
LAST-MODIFIED:20251122T145754Z
UID:41022-1764531000-1765227600@ianatropi.gr
SUMMARY:Orange Week Athens: Βιωματικό εργαστήριο με προβολή βίντεο με τίτλο «Κλιμάκωση».
DESCRIPTION:Τ0 εργαστήριo αφορά το πώς αναγνωρίζουμε τα σημάδια της κακοποίησης. \nΣυντονίζει η Αστική Μη Κερδοσκοπική Εταιρία ΔΥΝΑΜΕ – ΑΣΠΙΔΑ ΚΑΤΑ ΤΗΣ ΒΙΑΣ. \nΗ συμμετοχή στα εργαστήρια είναι δωρεάν και θα γίνει μέσω δήλωσης συμμετοχής στην ηλεκτρονική διεύθυνση info@dyname.org.
URL:https://ianatropi.gr/event/orange-week-athens-viomatiko-ergastirio-me-provoli-vinteo-me-titlo-klimakosi/
LOCATION:Πινακοθήκη Δήμου Αθηναίων\, Λεωνίδου\, Γερμανικού και Μυλλέρου\, Αθήνα\, Greece
CATEGORIES:ΚΕΝΤΡΙΚΟΣ ΤΟΜΕΑΣ
ATTACH;FMTTYPE=image/jpeg:https://ianatropi.gr/wp-content/uploads/2025/11/orange-weeks.jpg
END:VEVENT
END:VCALENDAR