BEGIN:VCALENDAR
VERSION:2.0
PRODID:-//iAnatropi.gr - ECPv6.15.20//NONSGML v1.0//EN
CALSCALE:GREGORIAN
METHOD:PUBLISH
X-WR-CALNAME:iAnatropi.gr
X-ORIGINAL-URL:https://ianatropi.gr
X-WR-CALDESC:Events for iAnatropi.gr
REFRESH-INTERVAL;VALUE=DURATION:PT1H
X-Robots-Tag:noindex
X-PUBLISHED-TTL:PT1H
BEGIN:VTIMEZONE
TZID:Europe/Helsinki
BEGIN:DAYLIGHT
TZOFFSETFROM:+0200
TZOFFSETTO:+0300
TZNAME:EEST
DTSTART:20240331T010000
END:DAYLIGHT
BEGIN:STANDARD
TZOFFSETFROM:+0300
TZOFFSETTO:+0200
TZNAME:EET
DTSTART:20241027T010000
END:STANDARD
BEGIN:DAYLIGHT
TZOFFSETFROM:+0200
TZOFFSETTO:+0300
TZNAME:EEST
DTSTART:20250330T010000
END:DAYLIGHT
BEGIN:STANDARD
TZOFFSETFROM:+0300
TZOFFSETTO:+0200
TZNAME:EET
DTSTART:20251026T010000
END:STANDARD
BEGIN:DAYLIGHT
TZOFFSETFROM:+0200
TZOFFSETTO:+0300
TZNAME:EEST
DTSTART:20260329T010000
END:DAYLIGHT
BEGIN:STANDARD
TZOFFSETFROM:+0300
TZOFFSETTO:+0200
TZNAME:EET
DTSTART:20261025T010000
END:STANDARD
END:VTIMEZONE
BEGIN:VEVENT
DTSTART;TZID=Europe/Helsinki:20251201T090000
DTEND;TZID=Europe/Helsinki:20251201T150000
DTSTAMP:20260420T070619
CREATED:20251123T091613Z
LAST-MODIFIED:20251123T091613Z
UID:41163-1764579600-1764601200@ianatropi.gr
SUMMARY:Orange Week Athens: Ημερίδα με θέμα την Περιγεννητική Βία και τη Μητρότητα.
DESCRIPTION:Συντονίζει η Κωνσταντίνα Νούσια. Κεντρικός ομιλητής ο Γεώργιος Π. Χρούσος. \nΠαρέχεται διερμηνεία στην Ελληνική Νοηματική Γλώσσα.
URL:https://ianatropi.gr/event/orange-week-athens-imerida-me-thema-tin-perigennitiki-via-kai-ti-mitrotita/
LOCATION:Αμφιθέατρο Αντώνης Τρίτσης\, Ακαδημίας 50\, Αθήνα\, Greece
CATEGORIES:ΚΕΝΤΡΙΚΟΣ ΤΟΜΕΑΣ
ATTACH;FMTTYPE=image/jpeg:https://ianatropi.gr/wp-content/uploads/2025/11/orange-weeks.jpg
END:VEVENT
BEGIN:VEVENT
DTSTART;TZID=Europe/Helsinki:20251201T200000
DTEND;TZID=Europe/Helsinki:20251201T210000
DTSTAMP:20260420T070619
CREATED:20251123T091853Z
LAST-MODIFIED:20251123T091853Z
UID:41166-1764619200-1764622800@ianatropi.gr
SUMMARY:Orange Week Athens: Performance ‘’The Tomb Within Μe’’(2025).
DESCRIPTION:Εικαστική Επιτέλεση (Performance) για την έμφυλη βία της Ελευθερίας Ρίζου.
URL:https://ianatropi.gr/event/orange-week-athens-performance-the-tomb-within-me2025/
LOCATION:Πινακοθήκη Δήμου Αθηναίων\, Λεωνίδου\, Γερμανικού και Μυλλέρου\, Αθήνα\, Greece
CATEGORIES:ΚΕΝΤΡΙΚΟΣ ΤΟΜΕΑΣ
ATTACH;FMTTYPE=image/jpeg:https://ianatropi.gr/wp-content/uploads/2025/11/orange-weeks.jpg
END:VEVENT
END:VCALENDAR