BEGIN:VCALENDAR
VERSION:2.0
PRODID:-//iAnatropi.gr - ECPv6.15.20//NONSGML v1.0//EN
CALSCALE:GREGORIAN
METHOD:PUBLISH
X-WR-CALNAME:iAnatropi.gr
X-ORIGINAL-URL:https://ianatropi.gr
X-WR-CALDESC:Events for iAnatropi.gr
REFRESH-INTERVAL;VALUE=DURATION:PT1H
X-Robots-Tag:noindex
X-PUBLISHED-TTL:PT1H
BEGIN:VTIMEZONE
TZID:Europe/Helsinki
BEGIN:DAYLIGHT
TZOFFSETFROM:+0200
TZOFFSETTO:+0300
TZNAME:EEST
DTSTART:20240331T010000
END:DAYLIGHT
BEGIN:STANDARD
TZOFFSETFROM:+0300
TZOFFSETTO:+0200
TZNAME:EET
DTSTART:20241027T010000
END:STANDARD
BEGIN:DAYLIGHT
TZOFFSETFROM:+0200
TZOFFSETTO:+0300
TZNAME:EEST
DTSTART:20250330T010000
END:DAYLIGHT
BEGIN:STANDARD
TZOFFSETFROM:+0300
TZOFFSETTO:+0200
TZNAME:EET
DTSTART:20251026T010000
END:STANDARD
BEGIN:DAYLIGHT
TZOFFSETFROM:+0200
TZOFFSETTO:+0300
TZNAME:EEST
DTSTART:20260329T010000
END:DAYLIGHT
BEGIN:STANDARD
TZOFFSETFROM:+0300
TZOFFSETTO:+0200
TZNAME:EET
DTSTART:20261025T010000
END:STANDARD
END:VTIMEZONE
BEGIN:VEVENT
DTSTART;TZID=Europe/Helsinki:20251127T170000
DTEND;TZID=Europe/Helsinki:20251127T220000
DTSTAMP:20260420T070607
CREATED:20251122T143853Z
LAST-MODIFIED:20251122T143853Z
UID:41008-1764262800-1764280800@ianatropi.gr
SUMMARY:Δήμος Αθηναίων: Η πόλη φωτίζεται – Μεγάλη γιορτή στο Σύνταγμα Πέμπτη 27 Νοεμβρίου στις 17:00
DESCRIPTION:Τα γιορτινά της βάζει η Αθήνα\, αυτή την Πέμπτη στην πλατεία συντάγματος
URL:https://ianatropi.gr/event/dimos-athinaion-i-poli-fotizetai-megali-giorti-sto-syntagma-pempti-27-noemvrioy-stis-1700/
LOCATION:Πλατεία Συντάγματος\, Greece
CATEGORIES:ΚΕΝΤΡΙΚΟΣ ΤΟΜΕΑΣ
ATTACH;FMTTYPE=image/png:https://ianatropi.gr/wp-content/uploads/2025/11/fotagogisi_2025_POST.png
END:VEVENT
END:VCALENDAR