BEGIN:VCALENDAR
VERSION:2.0
PRODID:-//iAnatropi.gr - ECPv6.15.20//NONSGML v1.0//EN
CALSCALE:GREGORIAN
METHOD:PUBLISH
X-ORIGINAL-URL:https://ianatropi.gr
X-WR-CALDESC:Events for iAnatropi.gr
REFRESH-INTERVAL;VALUE=DURATION:PT1H
X-Robots-Tag:noindex
X-PUBLISHED-TTL:PT1H
BEGIN:VTIMEZONE
TZID:UTC
BEGIN:STANDARD
TZOFFSETFROM:+0000
TZOFFSETTO:+0000
TZNAME:UTC
DTSTART:20240101T000000
END:STANDARD
END:VTIMEZONE
BEGIN:VEVENT
DTSTART;TZID=UTC:20251102T110000
DTEND;TZID=UTC:20251102T130000
DTSTAMP:20260419T223906
CREATED:20251101T171620Z
LAST-MODIFIED:20251123T103939Z
UID:38159-1762081200-1762088400@ianatropi.gr
SUMMARY:«Το θεάτρο πάει στα σχολεία» - «Ο Γύρος του Κόσμου σε 80 Ημέρες»
DESCRIPTION:
URL:https://ianatropi.gr/event/to-theatro-paei-sta-scholeia-o-gyros-toy-kosmoy-se-80-imeres/
LOCATION:14ο Δημοτικό Σχολείο Αθηνών\, Σινά 70\, Αθήνα\, Greece
CATEGORIES:ΚΕΝΤΡΙΚΟΣ ΤΟΜΕΑΣ
ATTACH;FMTTYPE=image/jpeg:https://ianatropi.gr/wp-content/uploads/2025/10/WhatsApp-Image-2025-10-31-at-16.51.57.jpeg
END:VEVENT
BEGIN:VEVENT
DTSTART;TZID=UTC:20251108T110000
DTEND;TZID=UTC:20251108T130000
DTSTAMP:20260419T223906
CREATED:20251101T172003Z
LAST-MODIFIED:20251123T103947Z
UID:38162-1762599600-1762606800@ianatropi.gr
SUMMARY:«Το θεάτρο πάει στα σχολεία» – «Ο Γύρος του Κόσμου σε 80 Ημέρες»
DESCRIPTION:
URL:https://ianatropi.gr/event/to-theatro-paei-sta-scholeia-o-gyros-toy-kosmoy-se-80-imeres-2/
LOCATION:145 Δημοτικό Σχολείο Αθηνών\, Νικηφόρου Γρηγορά 5\, Αθήνα\, Greece
CATEGORIES:ΚΕΝΤΡΙΚΟΣ ΤΟΜΕΑΣ
ATTACH;FMTTYPE=image/jpeg:https://ianatropi.gr/wp-content/uploads/2025/10/WhatsApp-Image-2025-10-31-at-16.51.57.jpeg
END:VEVENT
BEGIN:VEVENT
DTSTART;TZID=UTC:20251109T110000
DTEND;TZID=UTC:20251109T130000
DTSTAMP:20260419T223906
CREATED:20251101T172132Z
LAST-MODIFIED:20251123T103921Z
UID:38165-1762686000-1762693200@ianatropi.gr
SUMMARY:«Το θεάτρο πάει στα σχολεία» – «Ο Γύρος του Κόσμου σε 80 Ημέρες»
DESCRIPTION:
URL:https://ianatropi.gr/event/to-theatro-paei-sta-scholeia-o-gyros-toy-kosmoy-se-80-imeres-3/
LOCATION:72 Δημοτικό Σχολείο Αθηνών\, Ακταίου 2-4\, Αθήνα\, Greece
CATEGORIES:ΚΕΝΤΡΙΚΟΣ ΤΟΜΕΑΣ
ATTACH;FMTTYPE=image/jpeg:https://ianatropi.gr/wp-content/uploads/2025/10/WhatsApp-Image-2025-10-31-at-16.51.57.jpeg
END:VEVENT
BEGIN:VEVENT
DTSTART;TZID=UTC:20251124T190000
DTEND;TZID=UTC:20260721T213000
DTSTAMP:20260419T223906
CREATED:20251102T131902Z
LAST-MODIFIED:20251123T103927Z
UID:38263-1764010800-1784669400@ianatropi.gr
SUMMARY:H καρδιά του θεάτρου χτυπάει στη Δημοτική Αγορά Κυψέλης: Θεατρική ομάδα ενήλικων
DESCRIPTION:Μέσα από διασκεδαστικές και σύνθετες ασκήσεις συνόλου\, θα γνωριστούμε και θα φτιάξουμε ένα πλαίσιο εμπιστοσύνης που θα μας επιτρέπει να αναπτύξουμε τη δημιουργικότητά μας και να ξεδιπλώσουμε τη φαντασία μας\, να επικοινωνήσουμε με τους/τις συμπαίκτες/συμπαίκτριες και να δημιουργήσουμε μαζί. Το εργαστήριο προτείνει την εξοικείωση με διαφορετικές μεθόδους και τεχνικές της υποκριτικής και της ανάλυσης χαρακτήρων και προσφέρει μια ποικιλία γνώσεων και εργαλείων για όποιον αγαπά το Θέατρο. Πώς θέτουμε τις κατάλληλες ερωτήσεις σε ένα θεατρικό έργο; Τι είναι ρυθμός\, σύγκρουση\, εμπόδιο\, συμβάν επί σκηνής; \nΘα τα ανακαλύψουμε αφηγούμενοι/ες ιστορίες. \nΚάθε Δευτέρα από 3 Νοεμβρίου έως τέλος Ιουνίου 2026| 19:00 – 21:30 \n  \nΑιτήσεις συμμετοχής εδώ \nΠροπώληση εισιτηρίων εδώ
URL:https://ianatropi.gr/event/theatriki-omada-enilikon/
LOCATION:Δημοτική Αγορά Κυψέλης
CATEGORIES:ΚΕΝΤΡΙΚΟΣ ΤΟΜΕΑΣ
ATTACH;FMTTYPE=image/png:https://ianatropi.gr/wp-content/uploads/2025/11/Untitled-design-6-4.png
END:VEVENT
END:VCALENDAR