BEGIN:VCALENDAR
VERSION:2.0
PRODID:-//iAnatropi.gr - ECPv6.15.20//NONSGML v1.0//EN
CALSCALE:GREGORIAN
METHOD:PUBLISH
X-WR-CALNAME:iAnatropi.gr
X-ORIGINAL-URL:https://ianatropi.gr
X-WR-CALDESC:Events for iAnatropi.gr
REFRESH-INTERVAL;VALUE=DURATION:PT1H
X-Robots-Tag:noindex
X-PUBLISHED-TTL:PT1H
BEGIN:VTIMEZONE
TZID:Europe/Helsinki
BEGIN:DAYLIGHT
TZOFFSETFROM:+0200
TZOFFSETTO:+0300
TZNAME:EEST
DTSTART:20240331T010000
END:DAYLIGHT
BEGIN:STANDARD
TZOFFSETFROM:+0300
TZOFFSETTO:+0200
TZNAME:EET
DTSTART:20241027T010000
END:STANDARD
BEGIN:DAYLIGHT
TZOFFSETFROM:+0200
TZOFFSETTO:+0300
TZNAME:EEST
DTSTART:20250330T010000
END:DAYLIGHT
BEGIN:STANDARD
TZOFFSETFROM:+0300
TZOFFSETTO:+0200
TZNAME:EET
DTSTART:20251026T010000
END:STANDARD
BEGIN:DAYLIGHT
TZOFFSETFROM:+0200
TZOFFSETTO:+0300
TZNAME:EEST
DTSTART:20260329T010000
END:DAYLIGHT
BEGIN:STANDARD
TZOFFSETFROM:+0300
TZOFFSETTO:+0200
TZNAME:EET
DTSTART:20261025T010000
END:STANDARD
END:VTIMEZONE
BEGIN:VEVENT
DTSTART;TZID=Europe/Helsinki:20251125T180000
DTEND;TZID=Europe/Helsinki:20251125T210000
DTSTAMP:20260419T235534
CREATED:20251121T075146Z
LAST-MODIFIED:20251123T103724Z
UID:40818-1764093600-1764104400@ianatropi.gr
SUMMARY:Orange Week Athens: Προβολή ταινίας «αδέσποτα κορμιά» της Ελίνας Ψύκου
DESCRIPTION:Σε συνεργασία με το φεστιβάλ wift gr – γυναίκες στον κινηματογράφο και στην τηλεόραση. Θα ακολουθήσει συζήτηση με θέμα την ανάδυση του νεοσυντηριτισμού και την επίθεση στα έμφυλα δικαιώματα στην οποία θα συμμετέχουν η δημιουργός της ταινίας Ελίνα Ψύκου η αντιπροέδρος WIFT\, η δημοσιογράφος και ντοκιμαντερίστρια Νιόβη Αναζίκου και η σκηνοθέτρια και μέλος ΔΣ Wift Μαρία Χατζηγιάννη
URL:https://ianatropi.gr/event/orange-week-athens-provoli-tainias-adespota-kormia-tis-elinas-psykoy/
LOCATION:Πνευματικό Κέντρο Δήμου Αθηναίων\, Ακαδημίας 50\, Greece
CATEGORIES:ΚΕΝΤΡΙΚΟΣ ΤΟΜΕΑΣ
ATTACH;FMTTYPE=image/jpeg:https://ianatropi.gr/wp-content/uploads/2025/11/orange-weeks.jpg
END:VEVENT
BEGIN:VEVENT
DTSTART;TZID=Europe/Helsinki:20251128T170000
DTEND;TZID=Europe/Helsinki:20251128T190000
DTSTAMP:20260419T235534
CREATED:20251122T170905Z
LAST-MODIFIED:20251123T103718Z
UID:41127-1764349200-1764356400@ianatropi.gr
SUMMARY:H καρδιά του θεάτρου χτυπάει στην Δημοτική Αγορά της Κυψέλης: Terremoto!
DESCRIPTION:“Terremoto” σημαίνει σεισμός. Ελάτε να κάνουμε θόρυβο και να αρθρώσουμε δυναμικά τη φωνή μας! Μπορούμε μέσα από το θέατρο να εκφράσουμε φόβους\, επιθυμίες και όνειρα; Μπορούμε να χτίσουμε πρωτότυπες ιστορίες που μας αφορούν; Μπορούν οι ιστορίες αυτές να αλλάξουν τον κόσμο; Ελάτε να ενεργοποιήσουμε σώμα\, φωνή και φαντασία\, να εμπνευστούμε από διάφορα κείμενα\, θεατρικά ή μη\, να παίξουμε ρόλους\, να πειραματιστούμε με ιδέες\, εικόνες\, μουσικές\, να αυτοσχεδιάσουμε\, να εκφραστούμε\, να ακούσουμε και να ακουστούμε. Στις συναντήσεις μας\, μέσα από διαφορετικές τεχνικές θεάτρου και δημιουργικής γραφής\, θα διερευνήσουμε πολύπλοκα ερωτήματα\, θα εξερευνήσουμε τους φανταστικούς κόσμους των συγγραφέων\, θα δημιουργήσουμε δικούς μας κόσμους\, θα ανακαλύψουμε πλευρές της προσωπικότητάς μας\, θα συνεργαστούμε και θα δημιουργήσουμε μαζί τη δική μας παράσταση. \nΓια έφηβους Α’ – Γ’ Γυμνασίου \nΚάθε Παρασκευή από 7 Νοεμβρίου έως τέλος Ιουνίου 2026 |  17:00 -19:00 \nΑιτήσεις συμμετοχής εδώ \nΠροπώληση εισιτηρίων εδώ
URL:https://ianatropi.gr/event/h-kardia-toy-theatroy-chtypaei-stin-dimotiki-agora-tis-kypselis-terremoto/
LOCATION:Δημοτική Αγορά Κυψέλης
CATEGORIES:ΚΕΝΤΡΙΚΟΣ ΤΟΜΕΑΣ
ATTACH;FMTTYPE=image/png:https://ianatropi.gr/wp-content/uploads/2025/11/teromonto.png
END:VEVENT
END:VCALENDAR