BEGIN:VCALENDAR
VERSION:2.0
PRODID:-//iAnatropi.gr - ECPv6.15.20//NONSGML v1.0//EN
CALSCALE:GREGORIAN
METHOD:PUBLISH
X-WR-CALNAME:iAnatropi.gr
X-ORIGINAL-URL:https://ianatropi.gr
X-WR-CALDESC:Events for iAnatropi.gr
REFRESH-INTERVAL;VALUE=DURATION:PT1H
X-Robots-Tag:noindex
X-PUBLISHED-TTL:PT1H
BEGIN:VTIMEZONE
TZID:Europe/Helsinki
BEGIN:DAYLIGHT
TZOFFSETFROM:+0200
TZOFFSETTO:+0300
TZNAME:EEST
DTSTART:20240331T010000
END:DAYLIGHT
BEGIN:STANDARD
TZOFFSETFROM:+0300
TZOFFSETTO:+0200
TZNAME:EET
DTSTART:20241027T010000
END:STANDARD
BEGIN:DAYLIGHT
TZOFFSETFROM:+0200
TZOFFSETTO:+0300
TZNAME:EEST
DTSTART:20250330T010000
END:DAYLIGHT
BEGIN:STANDARD
TZOFFSETFROM:+0300
TZOFFSETTO:+0200
TZNAME:EET
DTSTART:20251026T010000
END:STANDARD
BEGIN:DAYLIGHT
TZOFFSETFROM:+0200
TZOFFSETTO:+0300
TZNAME:EEST
DTSTART:20260329T010000
END:DAYLIGHT
BEGIN:STANDARD
TZOFFSETFROM:+0300
TZOFFSETTO:+0200
TZNAME:EET
DTSTART:20261025T010000
END:STANDARD
END:VTIMEZONE
BEGIN:VEVENT
DTSTART;TZID=Europe/Helsinki:20251201T190000
DTEND;TZID=Europe/Helsinki:20251201T210000
DTSTAMP:20260419T222500
CREATED:20251122T150342Z
LAST-MODIFIED:20251123T103714Z
UID:41027-1764615600-1764622800@ianatropi.gr
SUMMARY:H καρδιά του θεάτρου χτυπάει στη Δημοτική Αγορά Κυψέλης: Θεατρική ομάδα ενήλικων
DESCRIPTION:Μέσα από διασκεδαστικές και σύνθετες ασκήσεις συνόλου\, θα γνωριστούμε και θα φτιάξουμε ένα πλαίσιο εμπιστοσύνης που θα μας επιτρέπει να αναπτύξουμε τη δημιουργικότητά μας και να ξεδιπλώσουμε τη φαντασία μας\, να επικοινωνήσουμε με τους/τις συμπαίκτες/συμπαίκτριες και να δημιουργήσουμε μαζί. Το εργαστήριο προτείνει την εξοικείωση με διαφορετικές μεθόδους και τεχνικές της υποκριτικής και της ανάλυσης χαρακτήρων και προσφέρει μια ποικιλία γνώσεων και εργαλείων για όποιον αγαπά το Θέατρο. Πώς θέτουμε τις κατάλληλες ερωτήσεις σε ένα θεατρικό έργο; Τι είναι ρυθμός\, σύγκρουση\, εμπόδιο\, συμβάν επί σκηνής; \nΘα τα ανακαλύψουμε αφηγούμενοι/ες ιστορίες. \nΚάθε Δευτέρα από 3 Νοεμβρίου έως τέλος Ιουνίου 2026| 19:00 – 21:30 \n  \nΑιτήσεις συμμετοχής εδώ \nΠροπώληση εισιτηρίων εδώ
URL:https://ianatropi.gr/event/h-kardia-toy-theatroy-chtypaei-sti-dimotiki-agora-kypselis-theatriki-omada-enilikon-2/
LOCATION:Δημοτική Αγορά Κυψέλης
CATEGORIES:ΚΕΝΤΡΙΚΟΣ ΤΟΜΕΑΣ
ATTACH;FMTTYPE=image/png:https://ianatropi.gr/wp-content/uploads/2025/11/Untitled-design-6-4.png
END:VEVENT
BEGIN:VEVENT
DTSTART;TZID=Europe/Helsinki:20251205T170000
DTEND;TZID=Europe/Helsinki:20251205T190000
DTSTAMP:20260419T222500
CREATED:20251122T171139Z
LAST-MODIFIED:20251123T103709Z
UID:41130-1764954000-1764961200@ianatropi.gr
SUMMARY:H καρδιά του θεάτρου χτυπάει στην Δημοτική Αγορά της Κυψέλης: Terremoto!
DESCRIPTION:“Terremoto” σημαίνει σεισμός. Ελάτε να κάνουμε θόρυβο και να αρθρώσουμε δυναμικά τη φωνή μας! Μπορούμε μέσα από το θέατρο να εκφράσουμε φόβους\, επιθυμίες και όνειρα; Μπορούμε να χτίσουμε πρωτότυπες ιστορίες που μας αφορούν; Μπορούν οι ιστορίες αυτές να αλλάξουν τον κόσμο; Ελάτε να ενεργοποιήσουμε σώμα\, φωνή και φαντασία\, να εμπνευστούμε από διάφορα κείμενα\, θεατρικά ή μη\, να παίξουμε ρόλους\, να πειραματιστούμε με ιδέες\, εικόνες\, μουσικές\, να αυτοσχεδιάσουμε\, να εκφραστούμε\, να ακούσουμε και να ακουστούμε. Στις συναντήσεις μας\, μέσα από διαφορετικές τεχνικές θεάτρου και δημιουργικής γραφής\, θα διερευνήσουμε πολύπλοκα ερωτήματα\, θα εξερευνήσουμε τους φανταστικούς κόσμους των συγγραφέων\, θα δημιουργήσουμε δικούς μας κόσμους\, θα ανακαλύψουμε πλευρές της προσωπικότητάς μας\, θα συνεργαστούμε και θα δημιουργήσουμε μαζί τη δική μας παράσταση. \nΓια έφηβους Α’ – Γ’ Γυμνασίου \nΚάθε Παρασκευή από 7 Νοεμβρίου έως τέλος Ιουνίου 2026 |  17:00 -19:00 \nΑιτήσεις συμμετοχής εδώ \nΠροπώληση εισιτηρίων εδώ
URL:https://ianatropi.gr/event/h-kardia-toy-theatroy-chtypaei-stin-dimotiki-agora-tis-kypselis-terremoto-2/
LOCATION:Δημοτική Αγορά Κυψέλης
CATEGORIES:ΚΕΝΤΡΙΚΟΣ ΤΟΜΕΑΣ
ATTACH;FMTTYPE=image/png:https://ianatropi.gr/wp-content/uploads/2025/11/teromonto.png
END:VEVENT
BEGIN:VEVENT
DTSTART;TZID=Europe/Helsinki:20251208T190000
DTEND;TZID=Europe/Helsinki:20251208T213000
DTSTAMP:20260419T222500
CREATED:20251122T150317Z
LAST-MODIFIED:20251123T103707Z
UID:41026-1765220400-1765229400@ianatropi.gr
SUMMARY:H καρδιά του θεάτρου χτυπάει στη Δημοτική Αγορά Κυψέλης: Θεατρική ομάδα ενήλικων
DESCRIPTION:Μέσα από διασκεδαστικές και σύνθετες ασκήσεις συνόλου\, θα γνωριστούμε και θα φτιάξουμε ένα πλαίσιο εμπιστοσύνης που θα μας επιτρέπει να αναπτύξουμε τη δημιουργικότητά μας και να ξεδιπλώσουμε τη φαντασία μας\, να επικοινωνήσουμε με τους/τις συμπαίκτες/συμπαίκτριες και να δημιουργήσουμε μαζί. Το εργαστήριο προτείνει την εξοικείωση με διαφορετικές μεθόδους και τεχνικές της υποκριτικής και της ανάλυσης χαρακτήρων και προσφέρει μια ποικιλία γνώσεων και εργαλείων για όποιον αγαπά το Θέατρο. Πώς θέτουμε τις κατάλληλες ερωτήσεις σε ένα θεατρικό έργο; Τι είναι ρυθμός\, σύγκρουση\, εμπόδιο\, συμβάν επί σκηνής; \nΘα τα ανακαλύψουμε αφηγούμενοι/ες ιστορίες. \nΚάθε Δευτέρα από 3 Νοεμβρίου έως τέλος Ιουνίου 2026| 19:00 – 21:30 \n  \nΑιτήσεις συμμετοχής εδώ \nΠροπώληση εισιτηρίων εδώ
URL:https://ianatropi.gr/event/h-kardia-toy-theatroy-chtypaei-sti-dimotiki-agora-kypselis-theatriki-omada-enilikon/
LOCATION:Δημοτική Αγορά Κυψέλης
CATEGORIES:ΚΕΝΤΡΙΚΟΣ ΤΟΜΕΑΣ
ATTACH;FMTTYPE=image/png:https://ianatropi.gr/wp-content/uploads/2025/11/Untitled-design-6-4.png
END:VEVENT
BEGIN:VEVENT
DTSTART;TZID=Europe/Helsinki:20251215T190000
DTEND;TZID=Europe/Helsinki:20251215T213000
DTSTAMP:20260419T222500
CREATED:20251122T150652Z
LAST-MODIFIED:20251123T103656Z
UID:41031-1765825200-1765834200@ianatropi.gr
SUMMARY:H καρδιά του θεάτρου χτυπάει στη Δημοτική Αγορά Κυψέλης: Θεατρική ομάδα ενήλικων
DESCRIPTION:Μέσα από διασκεδαστικές και σύνθετες ασκήσεις συνόλου\, θα γνωριστούμε και θα φτιάξουμε ένα πλαίσιο εμπιστοσύνης που θα μας επιτρέπει να αναπτύξουμε τη δημιουργικότητά μας και να ξεδιπλώσουμε τη φαντασία μας\, να επικοινωνήσουμε με τους/τις συμπαίκτες/συμπαίκτριες και να δημιουργήσουμε μαζί. Το εργαστήριο προτείνει την εξοικείωση με διαφορετικές μεθόδους και τεχνικές της υποκριτικής και της ανάλυσης χαρακτήρων και προσφέρει μια ποικιλία γνώσεων και εργαλείων για όποιον αγαπά το Θέατρο. Πώς θέτουμε τις κατάλληλες ερωτήσεις σε ένα θεατρικό έργο; Τι είναι ρυθμός\, σύγκρουση\, εμπόδιο\, συμβάν επί σκηνής; \nΘα τα ανακαλύψουμε αφηγούμενοι/ες ιστορίες. \nΚάθε Δευτέρα από 3 Νοεμβρίου έως τέλος Ιουνίου 2026| 19:00 – 21:30 \n  \nΑιτήσεις συμμετοχής εδώ \nΠροπώληση εισιτηρίων εδώ
URL:https://ianatropi.gr/event/h-kardia-toy-theatroy-chtypaei-sti-dimotiki-agora-kypselis-theatriki-omada-enilikon-3/
LOCATION:Δημοτική Αγορά Κυψέλης
CATEGORIES:ΚΕΝΤΡΙΚΟΣ ΤΟΜΕΑΣ
ATTACH;FMTTYPE=image/png:https://ianatropi.gr/wp-content/uploads/2025/11/Untitled-design-6-4.png
END:VEVENT
BEGIN:VEVENT
DTSTART;TZID=Europe/Helsinki:20251222T190000
DTEND;TZID=Europe/Helsinki:20251222T213000
DTSTAMP:20260419T222500
CREATED:20251122T150713Z
LAST-MODIFIED:20251123T103700Z
UID:41032-1766430000-1766439000@ianatropi.gr
SUMMARY:H καρδιά του θεάτρου χτυπάει στη Δημοτική Αγορά Κυψέλης: Θεατρική ομάδα ενήλικων
DESCRIPTION:Μέσα από διασκεδαστικές και σύνθετες ασκήσεις συνόλου\, θα γνωριστούμε και θα φτιάξουμε ένα πλαίσιο εμπιστοσύνης που θα μας επιτρέπει να αναπτύξουμε τη δημιουργικότητά μας και να ξεδιπλώσουμε τη φαντασία μας\, να επικοινωνήσουμε με τους/τις συμπαίκτες/συμπαίκτριες και να δημιουργήσουμε μαζί. Το εργαστήριο προτείνει την εξοικείωση με διαφορετικές μεθόδους και τεχνικές της υποκριτικής και της ανάλυσης χαρακτήρων και προσφέρει μια ποικιλία γνώσεων και εργαλείων για όποιον αγαπά το Θέατρο. Πώς θέτουμε τις κατάλληλες ερωτήσεις σε ένα θεατρικό έργο; Τι είναι ρυθμός\, σύγκρουση\, εμπόδιο\, συμβάν επί σκηνής; \nΘα τα ανακαλύψουμε αφηγούμενοι/ες ιστορίες. \nΚάθε Δευτέρα από 3 Νοεμβρίου έως τέλος Ιουνίου 2026| 19:00 – 21:30 \n  \nΑιτήσεις συμμετοχής εδώ \nΠροπώληση εισιτηρίων εδώ
URL:https://ianatropi.gr/event/h-kardia-toy-theatroy-chtypaei-sti-dimotiki-agora-kypselis-theatriki-omada-enilikon-4/
LOCATION:Δημοτική Αγορά Κυψέλης
CATEGORIES:ΚΕΝΤΡΙΚΟΣ ΤΟΜΕΑΣ
ATTACH;FMTTYPE=image/png:https://ianatropi.gr/wp-content/uploads/2025/11/Untitled-design-6-4.png
END:VEVENT
END:VCALENDAR