BEGIN:VCALENDAR
VERSION:2.0
PRODID:-//iAnatropi.gr - ECPv6.15.20//NONSGML v1.0//EN
CALSCALE:GREGORIAN
METHOD:PUBLISH
X-WR-CALNAME:iAnatropi.gr
X-ORIGINAL-URL:https://ianatropi.gr
X-WR-CALDESC:Events for iAnatropi.gr
REFRESH-INTERVAL;VALUE=DURATION:PT1H
X-Robots-Tag:noindex
X-PUBLISHED-TTL:PT1H
BEGIN:VTIMEZONE
TZID:Europe/Helsinki
BEGIN:DAYLIGHT
TZOFFSETFROM:+0200
TZOFFSETTO:+0300
TZNAME:EEST
DTSTART:20240331T010000
END:DAYLIGHT
BEGIN:STANDARD
TZOFFSETFROM:+0300
TZOFFSETTO:+0200
TZNAME:EET
DTSTART:20241027T010000
END:STANDARD
BEGIN:DAYLIGHT
TZOFFSETFROM:+0200
TZOFFSETTO:+0300
TZNAME:EEST
DTSTART:20250330T010000
END:DAYLIGHT
BEGIN:STANDARD
TZOFFSETFROM:+0300
TZOFFSETTO:+0200
TZNAME:EET
DTSTART:20251026T010000
END:STANDARD
BEGIN:DAYLIGHT
TZOFFSETFROM:+0200
TZOFFSETTO:+0300
TZNAME:EEST
DTSTART:20260329T010000
END:DAYLIGHT
BEGIN:STANDARD
TZOFFSETFROM:+0300
TZOFFSETTO:+0200
TZNAME:EET
DTSTART:20261025T010000
END:STANDARD
END:VTIMEZONE
BEGIN:VEVENT
DTSTART;TZID=Europe/Helsinki:20251215T190000
DTEND;TZID=Europe/Helsinki:20251215T213000
DTSTAMP:20260420T012256
CREATED:20251122T150652Z
LAST-MODIFIED:20251123T103656Z
UID:41031-1765825200-1765834200@ianatropi.gr
SUMMARY:H καρδιά του θεάτρου χτυπάει στη Δημοτική Αγορά Κυψέλης: Θεατρική ομάδα ενήλικων
DESCRIPTION:Μέσα από διασκεδαστικές και σύνθετες ασκήσεις συνόλου\, θα γνωριστούμε και θα φτιάξουμε ένα πλαίσιο εμπιστοσύνης που θα μας επιτρέπει να αναπτύξουμε τη δημιουργικότητά μας και να ξεδιπλώσουμε τη φαντασία μας\, να επικοινωνήσουμε με τους/τις συμπαίκτες/συμπαίκτριες και να δημιουργήσουμε μαζί. Το εργαστήριο προτείνει την εξοικείωση με διαφορετικές μεθόδους και τεχνικές της υποκριτικής και της ανάλυσης χαρακτήρων και προσφέρει μια ποικιλία γνώσεων και εργαλείων για όποιον αγαπά το Θέατρο. Πώς θέτουμε τις κατάλληλες ερωτήσεις σε ένα θεατρικό έργο; Τι είναι ρυθμός\, σύγκρουση\, εμπόδιο\, συμβάν επί σκηνής; \nΘα τα ανακαλύψουμε αφηγούμενοι/ες ιστορίες. \nΚάθε Δευτέρα από 3 Νοεμβρίου έως τέλος Ιουνίου 2026| 19:00 – 21:30 \n  \nΑιτήσεις συμμετοχής εδώ \nΠροπώληση εισιτηρίων εδώ
URL:https://ianatropi.gr/event/h-kardia-toy-theatroy-chtypaei-sti-dimotiki-agora-kypselis-theatriki-omada-enilikon-3/
LOCATION:Δημοτική Αγορά Κυψέλης
CATEGORIES:ΚΕΝΤΡΙΚΟΣ ΤΟΜΕΑΣ
ATTACH;FMTTYPE=image/png:https://ianatropi.gr/wp-content/uploads/2025/11/Untitled-design-6-4.png
END:VEVENT
END:VCALENDAR