BEGIN:VCALENDAR
VERSION:2.0
PRODID:-//iAnatropi.gr - ECPv6.15.20//NONSGML v1.0//EN
CALSCALE:GREGORIAN
METHOD:PUBLISH
X-ORIGINAL-URL:https://ianatropi.gr
X-WR-CALDESC:Events for iAnatropi.gr
REFRESH-INTERVAL;VALUE=DURATION:PT1H
X-Robots-Tag:noindex
X-PUBLISHED-TTL:PT1H
BEGIN:VTIMEZONE
TZID:Europe/Helsinki
BEGIN:DAYLIGHT
TZOFFSETFROM:+0200
TZOFFSETTO:+0300
TZNAME:EEST
DTSTART:20240331T010000
END:DAYLIGHT
BEGIN:STANDARD
TZOFFSETFROM:+0300
TZOFFSETTO:+0200
TZNAME:EET
DTSTART:20241027T010000
END:STANDARD
BEGIN:DAYLIGHT
TZOFFSETFROM:+0200
TZOFFSETTO:+0300
TZNAME:EEST
DTSTART:20250330T010000
END:DAYLIGHT
BEGIN:STANDARD
TZOFFSETFROM:+0300
TZOFFSETTO:+0200
TZNAME:EET
DTSTART:20251026T010000
END:STANDARD
BEGIN:DAYLIGHT
TZOFFSETFROM:+0200
TZOFFSETTO:+0300
TZNAME:EEST
DTSTART:20260329T010000
END:DAYLIGHT
BEGIN:STANDARD
TZOFFSETFROM:+0300
TZOFFSETTO:+0200
TZNAME:EET
DTSTART:20261025T010000
END:STANDARD
END:VTIMEZONE
BEGIN:VEVENT
DTSTART;TZID=Europe/Helsinki:20251123T103000
DTEND;TZID=Europe/Helsinki:20251123T120000
DTSTAMP:20260420T052714
CREATED:20251122T153021Z
LAST-MODIFIED:20251123T103547Z
UID:41053-1763893800-1763899200@ianatropi.gr
SUMMARY:Δωρεάν Ξεναγήσεις σε ιστορικά σημεία της Αθήνας: ΕΠΙΓΡΑΦΙΚΟ ΜΟΥΣΕΙΟ
DESCRIPTION:Ξεναγός: Νόρα Παντελάκη (έως 25 άτομα)
URL:https://ianatropi.gr/event/dorean-xenagiseis-se-istorika-simeia-tis-athinas-epigrafiko-moyseio/
LOCATION:ΕΠΙΓΡΑΦΙΚΟ ΜΟΥΣΕΙΟ\, Τοσίτα 1\, Αθήνα\, Greece
CATEGORIES:ΚΕΝΤΡΙΚΟΣ ΤΟΜΕΑΣ
ATTACH;FMTTYPE=image/jpeg:https://ianatropi.gr/wp-content/uploads/2025/11/ksenagiseis.jpg
END:VEVENT
BEGIN:VEVENT
DTSTART;TZID=Europe/Helsinki:20251123T103000
DTEND;TZID=Europe/Helsinki:20251123T120000
DTSTAMP:20260420T052714
CREATED:20251122T153446Z
LAST-MODIFIED:20251122T153808Z
UID:41057-1763893800-1763899200@ianatropi.gr
SUMMARY:Δωρεάν Ξεναγήσεις σε ιστορικά σημεία της Αθήνας: ΠΕΡΙΗΓΗΣΗ ΣΤΟ ΡΙΖΟΚΑΣΤΡΟ ΚΑΙ ΤΑ ΑΝΑΦΙΩΤΙΚΑ
DESCRIPTION:Ξεναγός: Μιχάλης Γιοχάλας (έως 40 άτομα)
URL:https://ianatropi.gr/event/dorean-xenagiseis-se-istorika-simeia-tis-athinas-periigisi-sto-rizokastro-kai-ta-anafiotika/
LOCATION:Μουσείο Ακρόπολης\, Αθήνα\, Greece
CATEGORIES:ΚΕΝΤΡΙΚΟΣ ΤΟΜΕΑΣ
ATTACH;FMTTYPE=image/jpeg:https://ianatropi.gr/wp-content/uploads/2025/11/ksenagiseis.jpg
END:VEVENT
BEGIN:VEVENT
DTSTART;TZID=Europe/Helsinki:20251123T103000
DTEND;TZID=Europe/Helsinki:20251123T120000
DTSTAMP:20260420T052714
CREATED:20251122T154011Z
LAST-MODIFIED:20251122T154011Z
UID:41059-1763893800-1763899200@ianatropi.gr
SUMMARY:Δωρεάν Ξεναγήσεις σε ιστορικά σημεία της Αθήνας: Εθνικός Κήπος
DESCRIPTION:Ξεναγός: Κώστας Καστελλάκης (έως 40 άτομα)
URL:https://ianatropi.gr/event/dorean-xenagiseis-se-istorika-simeia-tis-athinas-ethnikos-kipos/
LOCATION:Εθνικός Κήπος
CATEGORIES:ΚΕΝΤΡΙΚΟΣ ΤΟΜΕΑΣ
ATTACH;FMTTYPE=image/jpeg:https://ianatropi.gr/wp-content/uploads/2025/11/ksenagiseis.jpg
END:VEVENT
BEGIN:VEVENT
DTSTART;TZID=Europe/Helsinki:20251123T110000
DTEND;TZID=Europe/Helsinki:20251123T130000
DTSTAMP:20260420T052714
CREATED:20251122T153309Z
LAST-MODIFIED:20251123T103908Z
UID:41056-1763895600-1763902800@ianatropi.gr
SUMMARY:Δωρεάν Ξεναγήσεις σε ιστορικά σημεία της Αθήνας: Εθνική Πινακοθήκη
DESCRIPTION:Ξεναγός: Κασσάνδρα Ποριώτη (έως 25 άτομα)
URL:https://ianatropi.gr/event/dorean-xenagiseis-se-istorika-simeia-tis-athinas-ethniki-pinakothiki/
LOCATION:Εθνική Πινακοθήκη\, Βασιλίσσης Σοφίας 50\, Αθήνα\, Greece
CATEGORIES:ΚΕΝΤΡΙΚΟΣ ΤΟΜΕΑΣ
ATTACH;FMTTYPE=image/jpeg:https://ianatropi.gr/wp-content/uploads/2025/11/ksenagiseis.jpg
END:VEVENT
BEGIN:VEVENT
DTSTART;TZID=Europe/Helsinki:20251129T100000
DTEND;TZID=Europe/Helsinki:20251129T120000
DTSTAMP:20260420T052714
CREATED:20251122T155856Z
LAST-MODIFIED:20251122T155856Z
UID:41068-1764410400-1764417600@ianatropi.gr
SUMMARY:Δωρέαν Ξεναγήσεις στην Αθήνα:  ΝΑΟΣ ΟΛΥΜΠΙΟΥ ΔΙΟΣ ΚΑΙ ΚΑΛΛΙΜΑΡΜΑΡΟ
DESCRIPTION:Ξεναγός: Άννα Μπενάκη (έως 40 άτομα)
URL:https://ianatropi.gr/event/dorean-xenagiseis-stin-athina-naos-olympioy-dios-kai-kallimarmaro/
LOCATION:Ναός Ολυμπίου Διός\, Αθήνα\, Greece
CATEGORIES:ΚΕΝΤΡΙΚΟΣ ΤΟΜΕΑΣ
ATTACH;FMTTYPE=image/jpeg:https://ianatropi.gr/wp-content/uploads/2025/11/ksenagiseis.jpg
END:VEVENT
BEGIN:VEVENT
DTSTART;TZID=Europe/Helsinki:20251129T103000
DTEND;TZID=Europe/Helsinki:20251129T120000
DTSTAMP:20260420T052714
CREATED:20251122T160525Z
LAST-MODIFIED:20251123T103544Z
UID:41079-1764412200-1764417600@ianatropi.gr
SUMMARY:Δωρεάν Ξεναγήσεις στην Αθήνα:  ΤΟ ΦΙΛΟΣΟΦΕΙΝ ΣΤΗΝ ΑΡΧΑΙΑ ΑΓΟΡΑ
DESCRIPTION:Ξεναγός: Ειρήνη Κουμπούρα (έως 40 άτομα)
URL:https://ianatropi.gr/event/dorean-xenagiseis-stin-athina-to-filosofein-stin-archaia-agor/
LOCATION:Αρχαία Αγορά\, Αθήνα\, Greece
CATEGORIES:ΚΕΝΤΡΙΚΟΣ ΤΟΜΕΑΣ
ATTACH;FMTTYPE=image/jpeg:https://ianatropi.gr/wp-content/uploads/2025/11/ksenagiseis.jpg
END:VEVENT
BEGIN:VEVENT
DTSTART;TZID=Europe/Helsinki:20251129T110000
DTEND;TZID=Europe/Helsinki:20251129T130000
DTSTAMP:20260420T052714
CREATED:20251122T155453Z
LAST-MODIFIED:20251122T155453Z
UID:41069-1764414000-1764421200@ianatropi.gr
SUMMARY:Δωρέαν Ξεναγήσεις στην Αθήνα:  ΙΔΡΥΜΑ ΑΓΓΕΛΟΥ & ΛΗΤΟΥΣ ΚΑΤΑΚΟΥΖΗΝΟΥ
DESCRIPTION:Ξεναγός: Θεώνη Κάμπρα (έως 25 άτομα)
URL:https://ianatropi.gr/event/dorean-xenagiseis-stin-athina-idryma-aggeloy-litoys-katakoyzinoy/
LOCATION:ΙΔΡΥΜΑ ΑΓΓΕΛΟΥ & ΛΗΤΟΥΣ ΚΑΤΑΚΟΥΖΗΝΟΥ\, Βασιλίσσης Αμαλίας 4\, Αθήνα\, Greece
CATEGORIES:ΚΕΝΤΡΙΚΟΣ ΤΟΜΕΑΣ
ATTACH;FMTTYPE=image/jpeg:https://ianatropi.gr/wp-content/uploads/2025/11/ksenagiseis.jpg
END:VEVENT
BEGIN:VEVENT
DTSTART;VALUE=DATE:20251130
DTEND;VALUE=DATE:20251201
DTSTAMP:20260420T052714
CREATED:20251122T161920Z
LAST-MODIFIED:20251122T161942Z
UID:41084-1764460800-1764547199@ianatropi.gr
SUMMARY:Δωρέαν Ξεναγήσεις στην Αθήνα: ΠΝΥΚΑ - ΛΟΦΟΙ ΜΟΥΣΩΝ ΚΑΙ ΝΥΜΦΩΝ
DESCRIPTION:Ξεναγός: Λαυρεντία Γιαννόλα (έως 40 άτομα)
URL:https://ianatropi.gr/event/dorean-xenagiseis-stin-athina-pnyka-lofoi-moyson-kai-nymfon/
LOCATION:ΛΟΦΟΙ ΜΟΥΣΩΝ ΚΑΙ ΝΥΜΦΩΝ\, Αθήνα\, Greece
CATEGORIES:ΚΕΝΤΡΙΚΟΣ ΤΟΜΕΑΣ
ATTACH;FMTTYPE=image/jpeg:https://ianatropi.gr/wp-content/uploads/2025/11/ksenagiseis.jpg
END:VEVENT
BEGIN:VEVENT
DTSTART;TZID=Europe/Helsinki:20251130T103000
DTEND;TZID=Europe/Helsinki:20251130T120000
DTSTAMP:20260420T052714
CREATED:20251122T161811Z
LAST-MODIFIED:20251122T161811Z
UID:41085-1764498600-1764504000@ianatropi.gr
SUMMARY:Δωρέαν Ξεναγήσεις στην Αθήνα:  ΕΘΝΙΚΟ ΑΡΧΑΙΟΛΟΓΙΚΟ ΜΟΥΣΕΙΟ – ΠΡΟΪΣΤΟΡΙΚΗ ΣΥΛΛΟΓΗ
DESCRIPTION:Ξεναγός: Αρετή Βασδάρη (έως 25 άτομα)
URL:https://ianatropi.gr/event/dorean-xenagiseis-stin-athina-ethniko-archaiologiko-moyseio-proistoriki-syllogi/
LOCATION:Αρχαιολογικό Μουσείο\, Αθήνα\, Greece
CATEGORIES:ΚΕΝΤΡΙΚΟΣ ΤΟΜΕΑΣ
ATTACH;FMTTYPE=image/jpeg:https://ianatropi.gr/wp-content/uploads/2025/11/ksenagiseis.jpg
END:VEVENT
BEGIN:VEVENT
DTSTART;TZID=Europe/Helsinki:20251130T130000
DTEND;TZID=Europe/Helsinki:20251130T150000
DTSTAMP:20260420T052714
CREATED:20251122T161655Z
LAST-MODIFIED:20251122T161655Z
UID:41086-1764507600-1764514800@ianatropi.gr
SUMMARY:Δωρέαν Ξεναγήσεις στην Αθήνα:  ΑΡΧΑΙΑ ΑΓΟΡΑ
DESCRIPTION:Ξεναγός: Ειρήνη Καζαμιάκη (έως 40 άτομα)
URL:https://ianatropi.gr/event/dorean-xenagiseis-stin-athina-archaia-agora-2/
LOCATION:Αρχαία Αγορά\, Αθήνα\, Greece
CATEGORIES:ΚΕΝΤΡΙΚΟΣ ΤΟΜΕΑΣ
ATTACH;FMTTYPE=image/jpeg:https://ianatropi.gr/wp-content/uploads/2025/11/ksenagiseis.jpg
END:VEVENT
END:VCALENDAR